BEGIN:VCALENDAR
VERSION:2.0
CALSCALE:GREGORIAN
PRODID:adamgibbons/ics
METHOD:PUBLISH
X-PUBLISHED-TTL:PT1H
BEGIN:VEVENT
UID:1122@berlin.askapunk.de
SUMMARY:Konvulsismo n. 5
DTSTAMP:20260423T064556Z
DTSTART:20260424T180000Z
URL:https://berlin.askapunk.de/event/konvulsismo-n-5
LOCATION:Rote Insel - U-bahn Yorckstraße
STATUS:CONFIRMED
CATEGORIES:breakbeat,electro,industrial,noise
END:VEVENT
END:VCALENDAR
