BEGIN:VCALENDAR
VERSION:2.0
CALSCALE:GREGORIAN
PRODID:adamgibbons/ics
METHOD:PUBLISH
X-PUBLISHED-TTL:PT1H
BEGIN:VEVENT
UID:1154@berlin.askapunk.de
SUMMARY:Scattered Purgatory (Guruguru Brain) / K4LT
DTSTAMP:20260421T175751Z
DTSTART:20260425T170000Z
DTEND:20260425T213000Z
URL:https://berlin.askapunk.de/event/scattered-purgatory-guruguru-brain-k4l
	t
LOCATION:Neue Zukunft - Alt-Stralau 68\, 10245 Berlin
STATUS:CONFIRMED
CATEGORIES:darkwave,experimental,experimental electronic,krautrock,psychede
	lic
END:VEVENT
END:VCALENDAR
