BEGIN:VCALENDAR
VERSION:2.0
CALSCALE:GREGORIAN
PRODID:adamgibbons/ics
METHOD:PUBLISH
X-PUBLISHED-TTL:PT1H
BEGIN:VEVENT
UID:1147@berlin.askapunk.de
SUMMARY:SuperCheri + Garrrot
DTSTAMP:20260419T180551Z
DTSTART:20260425T070000Z
DTEND:20260425T095500Z
URL:https://berlin.askapunk.de/event/supercheri-garrrot
LOCATION:Grüner Salon Volksbühne - Linienstraße 227\, 10178 Berlin
STATUS:CONFIRMED
CATEGORIES:punk,post-punk
END:VEVENT
END:VCALENDAR
