BEGIN:VCALENDAR
VERSION:2.0
CALSCALE:GREGORIAN
PRODID:adamgibbons/ics
METHOD:PUBLISH
X-PUBLISHED-TTL:PT1H
BEGIN:VEVENT
UID:1152@berlin.askapunk.de
SUMMARY:Bull Brigade + Two Stories Away and Gate49
DTSTAMP:20260421T134057Z
DTSTART:20260523T170000Z
DTEND:20260523T200000Z
DESCRIPTION:Tickets: https://coretexrecords.com/Bull-Brigade-23052026\n[htt
	ps://coretexrecords.com/Bull-Brigade-23052026]
URL:https://berlin.askapunk.de/event/bull-brigade-two-stories-away-and-gate
	49
LOCATION:Cassiopeia - Revaler Str. 99\, 10245 Berlin
STATUS:CONFIRMED
CATEGORIES:hardcore punk,pop punk,punk
X-ALT-DESC;FMTTYPE=text/html:<p>Tickets: <a href="https://coretexrecords.co
	m/Bull-Brigade-23052026" target="_blank">https://coretexrecords.com/Bull-B
	rigade-23052026</a></p>
BEGIN:VALARM
ACTION:DISPLAY
DESCRIPTION:Bull Brigade + Two Stories Away and Gate49
TRIGGER:-PT1H
END:VALARM
END:VEVENT
END:VCALENDAR
